BEGIN:VCALENDAR
METHOD:PUBLISH
PRODID:www-ziwis-fau-de//Events//DE
VERSION:2.0
BEGIN:VEVENT
SUMMARY:ZIWIS Spring School Future Skills: Projektmanagement in einer 
 digitalen Arbeitswelt
UID:040000008200E00074C5B7101A82E00800000000C041A1350832DC010000000000
 0000001000000028F63C352AF1C64F801DB29935950919
DTSTART:20260301T230000Z
DTEND:20260304T230000Z
LOCATION:Kochstr. 6a
DTSTAMP:20260426T020847Z
END:VEVENT
END:VCALENDAR